BEGIN:VCALENDAR
VERSION:2.0
PRODID:-//hacksw/handcal//NONSGML v1.0//EN
BEGIN:VEVENT
SUMMARY:Tournoi de sixte FCGB #2
UID:699ccaab-15d6-4909-85a8-4245e3bcd880
DTSTART:20260613T073000Z
DTEND:20260613T160000Z
LOCATION:Localisation   
CATEGORIES:Sportif
STATUS:
DESCRIPTION:<p>[ Tournoi de Sixte  FCGB ] ⚽</p>
 
 <p>Le FC Grand
 Besancon vous donne rendez-vous pour la 2eme edition de son Tournoi
 de Sixte ! 🖤💙</p>
 
 <p>📅 Samedi 13 juin 2026<br>
 📍 Terrain
 synthetique de Pirey</p>
 
 <p>Apres une premiere edition reussie, le
 club vous propose a nouveau une journee placee sous le signe du
 football, du plaisir et de la convivialite 💪</p>
 
 <p>🔑 Infos
 cles :<br>
 💶 50€ par equipe<br>
 👥 8 joueurs maximum<br>
 🕘
 Debut des rencontres 9h30, fin 18h00<br>
 🏆
 Recompenses </p>
 
 <p>🍔 Buvette & petite restauration sur
 place</p>
 
 <p>⚠️ Places limitees – pensez a inscrire votre
 equipe rapidement !<br>
 Inscriptions :
 www.fcgrandbesancon.fr</p>
 
 <p>👉 Une belle occasion de se
 retrouver et de partager un moment autour du football au
 FCGB</p>
 
 <p>Allez FCGB 🖤💙</p>
URL;VALUE=URI:https://www.fcgrandbesancon.fr/evenements/2026/06/13/tournoi-de-sixte-fcgb-2-2441130
END:VEVENT
END:VCALENDAR
